BEGIN:VCALENDAR
VERSION:2.0
PRODID:-//Havana Library - ECPv6.15.20//NONSGML v1.0//EN
CALSCALE:GREGORIAN
METHOD:PUBLISH
X-WR-CALNAME:Havana Library
X-ORIGINAL-URL:http://www.havana.lib.il.us
X-WR-CALDESC:Events for Havana Library
REFRESH-INTERVAL;VALUE=DURATION:PT1H
X-Robots-Tag:noindex
X-PUBLISHED-TTL:PT1H
BEGIN:VTIMEZONE
TZID:America/Chicago
BEGIN:DAYLIGHT
TZOFFSETFROM:-0600
TZOFFSETTO:-0500
TZNAME:CDT
DTSTART:20220313T080000
END:DAYLIGHT
BEGIN:STANDARD
TZOFFSETFROM:-0500
TZOFFSETTO:-0600
TZNAME:CST
DTSTART:20221106T070000
END:STANDARD
BEGIN:DAYLIGHT
TZOFFSETFROM:-0600
TZOFFSETTO:-0500
TZNAME:CDT
DTSTART:20230312T080000
END:DAYLIGHT
BEGIN:STANDARD
TZOFFSETFROM:-0500
TZOFFSETTO:-0600
TZNAME:CST
DTSTART:20231105T070000
END:STANDARD
BEGIN:DAYLIGHT
TZOFFSETFROM:-0600
TZOFFSETTO:-0500
TZNAME:CDT
DTSTART:20240310T080000
END:DAYLIGHT
BEGIN:STANDARD
TZOFFSETFROM:-0500
TZOFFSETTO:-0600
TZNAME:CST
DTSTART:20241103T070000
END:STANDARD
END:VTIMEZONE
BEGIN:VEVENT
DTSTART;TZID=America/Chicago:20230303T180000
DTEND;TZID=America/Chicago:20230303T193000
DTSTAMP:20260424T135249
CREATED:20221020T154307Z
LAST-MODIFIED:20221020T154307Z
UID:2754-1677866400-1677871800@www.havana.lib.il.us
SUMMARY:Book Group
DESCRIPTION:The Havana Public Library District will host an online discussion of this month’s book group selection. Copies of the book are available at the library. To register and receive the ZOOM link\, please message us or call 309-543-4701.
URL:http://www.havana.lib.il.us/event/book-group-5/
END:VEVENT
BEGIN:VEVENT
DTSTART;VALUE=DATE:20230308
DTEND;VALUE=DATE:20230309
DTSTAMP:20260424T135249
CREATED:20221212T171559Z
LAST-MODIFIED:20221212T171559Z
UID:2776-1678233600-1678319999@www.havana.lib.il.us
SUMMARY:Closed for Library Improvement
DESCRIPTION:The library will be closed today.
URL:http://www.havana.lib.il.us/event/closed-for-library-improvement-3/
END:VEVENT
BEGIN:VEVENT
DTSTART;TZID=America/Chicago:20230309T160000
DTEND;TZID=America/Chicago:20230309T170000
DTSTAMP:20260424T135249
CREATED:20220707T202738Z
LAST-MODIFIED:20230307T204420Z
UID:2703-1678377600-1678381200@www.havana.lib.il.us
SUMMARY:Board Meeting at 4:00 p.m.
DESCRIPTION:Havana Public Library District\nThursday\, March 9\, 2023\nBoard of Trustees Meeting\n4:00 p.m. Library Annex\n118 S. Plum \nAgenda for Regular Board of Trustees Meeting \nI. Call to Order\nII. Roll Call\nIII. President’s Report\nIV. Secretary’s Report: approval of minutes as received or corrected\na. Minutes from regular meeting\, January 19\, 2023\nb. Minutes from special meeting\, February 23\, 2023\nV. Correspondence\, communications\, and public comment\nVI. Treasurer’s Report\na. Monthly budget report and review of bills payable January 2023\nb. Monthly budget report and review of bills payable February 2023\nVI. Librarian’s (Vanessa Hall-Bennett) report(s)\nVIII. Unfinished Business\na. Library Maintenance &amp; Repairs\nIX. New Business\na. Swearing in of New Trustee Kate Hurley\nb. Saturday Hours\nc. Paid Leave for All Workers Act\nd. Decennial Committee\ne. Statements of Economic Interest\nf. Bids for Library Maintenance\ng. Bids for Library Sidewalks\nh. Meeting Room Policy\nX. Public Comment\nXI. Adjournment
URL:http://www.havana.lib.il.us/event/board-meeting-at-400-p-m-11/
LOCATION:Havana Public Library District Annex\, 118 S. Plum Street\, Havana\, IL\, 62644\, United States
END:VEVENT
END:VCALENDAR