BEGIN:VCALENDAR
VERSION:2.0
PRODID:-//Havana Library - ECPv6.15.20//NONSGML v1.0//EN
CALSCALE:GREGORIAN
METHOD:PUBLISH
X-ORIGINAL-URL:http://www.havana.lib.il.us
X-WR-CALDESC:Events for Havana Library
REFRESH-INTERVAL;VALUE=DURATION:PT1H
X-Robots-Tag:noindex
X-PUBLISHED-TTL:PT1H
BEGIN:VTIMEZONE
TZID:America/Chicago
BEGIN:DAYLIGHT
TZOFFSETFROM:-0600
TZOFFSETTO:-0500
TZNAME:CDT
DTSTART:20230312T080000
END:DAYLIGHT
BEGIN:STANDARD
TZOFFSETFROM:-0500
TZOFFSETTO:-0600
TZNAME:CST
DTSTART:20231105T070000
END:STANDARD
BEGIN:DAYLIGHT
TZOFFSETFROM:-0600
TZOFFSETTO:-0500
TZNAME:CDT
DTSTART:20240310T080000
END:DAYLIGHT
BEGIN:STANDARD
TZOFFSETFROM:-0500
TZOFFSETTO:-0600
TZNAME:CST
DTSTART:20241103T070000
END:STANDARD
BEGIN:DAYLIGHT
TZOFFSETFROM:-0600
TZOFFSETTO:-0500
TZNAME:CDT
DTSTART:20250309T080000
END:DAYLIGHT
BEGIN:STANDARD
TZOFFSETFROM:-0500
TZOFFSETTO:-0600
TZNAME:CST
DTSTART:20251102T070000
END:STANDARD
END:VTIMEZONE
BEGIN:VEVENT
DTSTART;VALUE=DATE:20241007
DTEND;VALUE=DATE:20241008
DTSTAMP:20260420T180051
CREATED:20231218T230145Z
LAST-MODIFIED:20231218T230145Z
UID:2955-1728259200-1728345599@www.havana.lib.il.us
SUMMARY:Library Opens and Hour Late
DESCRIPTION:The library will be open from 11:00 a.m. to 6:00 p.m. today.
URL:http://www.havana.lib.il.us/event/library-opens-and-hour-late/
END:VEVENT
BEGIN:VEVENT
DTSTART;VALUE=DATE:20241014
DTEND;VALUE=DATE:20241015
DTSTAMP:20260420T180051
CREATED:20231219T161713Z
LAST-MODIFIED:20231219T162557Z
UID:2957-1728864000-1728950399@www.havana.lib.il.us
SUMMARY:Closed for Columbus Day
DESCRIPTION:The library is closed today.
URL:http://www.havana.lib.il.us/event/closed-for-columbus-day-4/
END:VEVENT
END:VCALENDAR