BEGIN:VCALENDAR
VERSION:2.0
PRODID:-//Havana Library - ECPv6.15.20//NONSGML v1.0//EN
CALSCALE:GREGORIAN
METHOD:PUBLISH
X-WR-CALNAME:Havana Library
X-ORIGINAL-URL:https://www.havana.lib.il.us
X-WR-CALDESC:Events for Havana Library
REFRESH-INTERVAL;VALUE=DURATION:PT1H
X-Robots-Tag:noindex
X-PUBLISHED-TTL:PT1H
BEGIN:VTIMEZONE
TZID:America/Chicago
BEGIN:DAYLIGHT
TZOFFSETFROM:-0600
TZOFFSETTO:-0500
TZNAME:CDT
DTSTART:20200308T080000
END:DAYLIGHT
BEGIN:STANDARD
TZOFFSETFROM:-0500
TZOFFSETTO:-0600
TZNAME:CST
DTSTART:20201101T070000
END:STANDARD
BEGIN:DAYLIGHT
TZOFFSETFROM:-0600
TZOFFSETTO:-0500
TZNAME:CDT
DTSTART:20210314T080000
END:DAYLIGHT
BEGIN:STANDARD
TZOFFSETFROM:-0500
TZOFFSETTO:-0600
TZNAME:CST
DTSTART:20211107T070000
END:STANDARD
BEGIN:DAYLIGHT
TZOFFSETFROM:-0600
TZOFFSETTO:-0500
TZNAME:CDT
DTSTART:20220313T080000
END:DAYLIGHT
BEGIN:STANDARD
TZOFFSETFROM:-0500
TZOFFSETTO:-0600
TZNAME:CST
DTSTART:20221106T070000
END:STANDARD
END:VTIMEZONE
BEGIN:VEVENT
DTSTART;TZID=America/Chicago:20210604T180000
DTEND;TZID=America/Chicago:20210604T200000
DTSTAMP:20260425T185049
CREATED:20210413T165455Z
LAST-MODIFIED:20210413T165455Z
UID:2390-1622829600-1622836800@www.havana.lib.il.us
SUMMARY:Book Group: The Blind Assassin by Margaret Atwood
DESCRIPTION:This month’s book discussion will be about The Blind Assassin by Margaret Atwood. Interlibrary loaned copies of each title will be on hold at the library. At this time all book groups will be held via ZOOM. To register and receive the ZOOM meeting link\, please contact the library at (309) 543-4701.
URL:https://www.havana.lib.il.us/event/book-group-the-blind-assassin-by-margaret-atwood/
END:VEVENT
END:VCALENDAR